BEGIN:VCALENDAR
PRODID:-//Hannon Hill Events//Cascade CMS//EN
VERSION:2.0
X-WR-CALNAME:Summer Semester 2026 Begins
X-WR-TIMEZONE:America/Chicago
BEGIN:VTIMEZONE
TZID:America/Chicago
BEGIN:DAYLIGHT
TZOFFSETFROM:-0600
TZOFFSETTO:-0500
TZNAME:CDT
DTSTART:19700308T020000
RRULE:FREQ=YEARLY;BYMONTH=3;BYDAY=2SU
END:DAYLIGHT
BEGIN:STANDARD
TZOFFSETFROM:-0500
TZOFFSETTO:-0600
TZNAME:CST
DTSTART:19701101T020000
RRULE:FREQ=YEARLY;BYMONTH=11;BYDAY=1SU
END:STANDARD
END:VTIMEZONE
BEGIN:VEVENT
DTSTART:20260615T000000
DTEND:20260615T000000
DTSTAMP:20260422T100610
UID:e3f165fbac1e006c3ca1c62a98e35497
CREATED:20241031T135821
DESCRIPTION:The number of weeks that classes are offered may vary. Start d
 ates vary by course. Check individual course schedules.
LAST-MODIFIED:20241031T135911
SEQUENCE:0
STATUS:CONFIRMED
SUMMARY:Summer Semester 2026 Begins
TRANSP:OPAQUE
END:VEVENT
END:VCALENDAR
