BEGIN:VCALENDAR
PRODID:-//Hannon Hill Events//Cascade CMS//EN
VERSION:2.0
X-WR-CALNAME:Gardenfest 2026
X-WR-TIMEZONE:America/Chicago
BEGIN:VTIMEZONE
TZID:America/Chicago
BEGIN:DAYLIGHT
TZOFFSETFROM:-0600
TZOFFSETTO:-0500
TZNAME:CDT
DTSTART:19700308T020000
RRULE:FREQ=YEARLY;BYMONTH=3;BYDAY=2SU
END:DAYLIGHT
BEGIN:STANDARD
TZOFFSETFROM:-0500
TZOFFSETTO:-0600
TZNAME:CST
DTSTART:19701101T020000
RRULE:FREQ=YEARLY;BYMONTH=11;BYDAY=1SU
END:STANDARD
END:VTIMEZONE
BEGIN:VEVENT
DTSTART:20260411T080000
DTEND:20260411T160000
DTSTAMP:20260211T083725
UID:50d11f5cac1e006c17e054af9b720876
CREATED:20241121T162142
DESCRIPTION:
LAST-MODIFIED:20260211T083719
SEQUENCE:0
STATUS:CONFIRMED
SUMMARY:Gardenfest 2026
TRANSP:OPAQUE
END:VEVENT
END:VCALENDAR
