BEGIN:VCALENDAR
PRODID:-//Hannon Hill Events//Cascade CMS//EN
VERSION:2.0
X-WR-CALNAME:Fall 2026 Priority Registration - 42 college credits or more
X-WR-TIMEZONE:America/Chicago
BEGIN:VTIMEZONE
TZID:America/Chicago
BEGIN:DAYLIGHT
TZOFFSETFROM:-0600
TZOFFSETTO:-0500
TZNAME:CDT
DTSTART:19700308T020000
RRULE:FREQ=YEARLY;BYMONTH=3;BYDAY=2SU
END:DAYLIGHT
BEGIN:STANDARD
TZOFFSETFROM:-0500
TZOFFSETTO:-0600
TZNAME:CST
DTSTART:19701101T020000
RRULE:FREQ=YEARLY;BYMONTH=11;BYDAY=1SU
END:STANDARD
END:VTIMEZONE
BEGIN:VEVENT
DTSTART:20260406T080000
DTEND:20260406T200000
DTSTAMP:20260212T122615
UID:531803e3ac1e006c5a7adcdfd7bbb010
CREATED:20260212T122328
DESCRIPTION:
LAST-MODIFIED:20260212T122609
SEQUENCE:0
STATUS:CONFIRMED
SUMMARY:Fall 2026 Priority Registration - 42 college credits or more
TRANSP:OPAQUE
END:VEVENT
END:VCALENDAR
