BEGIN:VCALENDAR
PRODID:-//Hannon Hill Events//Cascade CMS//EN
VERSION:2.0
X-WR-CALNAME:I&apos\;m No Shakespeare
X-WR-TIMEZONE:America/Chicago
BEGIN:VTIMEZONE
TZID:America/Chicago
BEGIN:DAYLIGHT
TZOFFSETFROM:-0600
TZOFFSETTO:-0500
TZNAME:CDT
DTSTART:19700308T020000
RRULE:FREQ=YEARLY;BYMONTH=3;BYDAY=2SU
END:DAYLIGHT
BEGIN:STANDARD
TZOFFSETFROM:-0500
TZOFFSETTO:-0600
TZNAME:CST
DTSTART:19701101T020000
RRULE:FREQ=YEARLY;BYMONTH=11;BYDAY=1SU
END:STANDARD
END:VTIMEZONE
BEGIN:VEVENT
DTSTART:20260306T190000
DTEND:20260306T213000
DTSTAMP:20260126T173052
UID:fc9f91a8ac1e006c655f6d726bbb1db6
CREATED:20260126T172434
DESCRIPTION:Join us for the premiere of &quot\;I&apos\;m No Shakespeare&qu
 ot\; at MCC&apos\;s Black Box Theatre! Experience a musical comedy explori
 ng love\, dating\, and happiness. Get your tickets now!
LAST-MODIFIED:20260126T172631
SEQUENCE:0
STATUS:CONFIRMED
SUMMARY:I&apos\;m No Shakespeare
TRANSP:OPAQUE
END:VEVENT
END:VCALENDAR
